BEGIN:VCALENDAR
VERSION:2.0
PRODID:-//Crearte Tampa - ECPv6.15.17//NONSGML v1.0//EN
CALSCALE:GREGORIAN
METHOD:PUBLISH
X-ORIGINAL-URL:https://creartetampa.com
X-WR-CALDESC:Events for Crearte Tampa
REFRESH-INTERVAL;VALUE=DURATION:PT1H
X-Robots-Tag:noindex
X-PUBLISHED-TTL:PT1H
BEGIN:VTIMEZONE
TZID:America/New_York
BEGIN:DAYLIGHT
TZOFFSETFROM:-0500
TZOFFSETTO:-0400
TZNAME:EDT
DTSTART:20220313T070000
END:DAYLIGHT
BEGIN:STANDARD
TZOFFSETFROM:-0400
TZOFFSETTO:-0500
TZNAME:EST
DTSTART:20221106T060000
END:STANDARD
BEGIN:DAYLIGHT
TZOFFSETFROM:-0500
TZOFFSETTO:-0400
TZNAME:EDT
DTSTART:20230312T070000
END:DAYLIGHT
BEGIN:STANDARD
TZOFFSETFROM:-0400
TZOFFSETTO:-0500
TZNAME:EST
DTSTART:20231105T060000
END:STANDARD
BEGIN:DAYLIGHT
TZOFFSETFROM:-0500
TZOFFSETTO:-0400
TZNAME:EDT
DTSTART:20240310T070000
END:DAYLIGHT
BEGIN:STANDARD
TZOFFSETFROM:-0400
TZOFFSETTO:-0500
TZNAME:EST
DTSTART:20241103T060000
END:STANDARD
END:VTIMEZONE
BEGIN:VEVENT
DTSTART;TZID=America/New_York:20231013T200000
DTEND;TZID=America/New_York:20231013T235959
DTSTAMP:20260423T111646
CREATED:20231010T022044Z
LAST-MODIFIED:20231010T022048Z
UID:991-1697227200-1697241599@creartetampa.com
SUMMARY:A Corta Distancia
DESCRIPTION:El dúo Legna y Yoisel en una descarga a corta distancia. \n\n\n\nTapas y Bar para esta noche de viernes. No te lo pierdas!
URL:https://creartetampa.com/event/a-corta-distancia101323/
LOCATION:Cuban Civic Club\, 10905 Memorial Hwy\, Tampa\, FL\, 33615\, Estados Unidos
CATEGORIES:Musica
ATTACH;FMTTYPE=image/png:https://creartetampa.com/wp-content/uploads/2023/10/legna-y-yoisel-a-corta-distancia.png
END:VEVENT
BEGIN:VEVENT
DTSTART;TZID=America/New_York:20230922T200000
DTEND;TZID=America/New_York:20230922T233000
DTSTAMP:20260423T111646
CREATED:20230707T205905Z
LAST-MODIFIED:20230918T221915Z
UID:430-1695412800-1695425400@creartetampa.com
SUMMARY:Pedro Luis Ferrer
DESCRIPTION:Pedro Luis Ferrer\n\n\n\nJunto a Lena Ferrer y su grupo\n\n\n\n\n\nPhoto: Yoisel Concepcion\n\n\n\nRegresa el cantautor Pedro Luis Ferrer a la ciudad de Tampa\, con la maravillosa compañía de su hija Lena Ferrer\, quienes ya nos tienen acostumbrados a los timbres más tradicionales de Cuba. \n\n\n\nPhoto: Yoisel Concepcion\n\n\n\nLa primera vez que vinieron a Tampa tuvimos la suerte de asistir. Muchos amigos estaban maravillados de cómo la banda de Pedro sonó “como si fuera un disco”. \n\n\n\nEsta vez Pedro y Lena regresan a Tampa con nuevos bríos. Cargados de recientes presentaciones por España y parte de Europa\, justo después de tocar en Cuba; donde sabemos que su presentación será un impulso para muchos a seguir resistiendo en un país\, donde los valores y los derechos continuan siendo un asunto necesario. \n\n\n\nNo te pierdas este concierto único y a corta distancia. Gracias por seguir apoyando este proyecto. \n\n\n\n\n\n\n\nNota: El plano siguiente muestra solo las primeras filas de mesas y su disposición en semicírculo en torno al escenario. Estas filas se venden por mesas de 4 y la mesa será asignada a la fila correspondiente a su compra.
URL:https://creartetampa.com/event/pedro-luis-ferrer/
LOCATION:Cuban Civic Club\, 10905 Memorial Hwy\, Tampa\, FL\, 33615\, Estados Unidos
CATEGORIES:Musica
ATTACH;FMTTYPE=image/jpeg:https://creartetampa.com/wp-content/uploads/2023/07/Copia-de-_YOI9265-Editar-2-2.jpg
END:VEVENT
BEGIN:VEVENT
DTSTART;TZID=America/New_York:20230908T200000
DTEND;TZID=America/New_York:20230908T233000
DTSTAMP:20260423T111646
CREATED:20230710T222112Z
LAST-MODIFIED:20230907T213650Z
UID:465-1694203200-1694215800@creartetampa.com
SUMMARY:Kelvis Ochoa
DESCRIPTION:Kelvis Ochoa\n\n\n\nKelvis a corta distancia\n\n\n\n\n\nCrearte Tampa se engalana en presentar este concierto de Kelvis Ochoa\, por primera vez en Tampa. Será una noche mágica con el artista a corta distancia. \n\n\n\nKelvis Ochoa es un cantautor e intérprete que representa ritmos tradicionales como el Sucu Sucu\, Cha cha chá\, Macuta\, songo; además de los géneros más conocidos de Cuba\, los cuales ha fusionado magistralmente con el funk\, el rock o el pop\, por sólo nombrar algunos. Kelvis ha entrado en la música urbana actual con su timbre característico\, haciendo aportes que vienen de sus valores más tradicionales. \n\n\n\n\n\nVideo oficial\n\n\n\n\n\n\n\n\n\nNota: El plano siguiente muestra solo las primeras filas de mesas y su disposición en semicírculo en torno al escenario. Estas filas se venden por mesas de 4 y la mesa será asignada a la fila correspondiente a su compra.
URL:https://creartetampa.com/event/kelvis-ochoa/
LOCATION:Cuban Civic Club\, 10905 Memorial Hwy\, Tampa\, FL\, 33615\, Estados Unidos
CATEGORIES:Musica
ATTACH;FMTTYPE=image/jpeg:https://creartetampa.com/wp-content/uploads/2023/07/kelvis-ochoa.jpg
END:VEVENT
BEGIN:VEVENT
DTSTART;TZID=America/New_York:20230825T200000
DTEND;TZID=America/New_York:20230825T235959
DTSTAMP:20260423T111646
CREATED:20230725T173158Z
LAST-MODIFIED:20230808T023141Z
UID:590-1692993600-1693007999@creartetampa.com
SUMMARY:Sweet Lizzy Project
DESCRIPTION:In just a few years\, Cuban-born\, Nashville-based quintet Sweet Lizzy Project has gone from its members never having been in an arena\, to mesmerizing an audience of 20\,000 people opening for their idols\, Heart and Joan Jett. Along the way\, the anthemic rock band earned a prime performance broadcast for PBS’s Havana Time Machine; an artist profile on NPR’s “Weekend Edition”; and a cover story in the Miami Herald. \n\n\n\n\n\n\n\n\n\nSweet Lizzy Project play electrifying big-stage pop-rock with a modern sheen and classic rock heart. Diaz is a lightning bolt of a frontwoman; her lyrics are boldly vulnerable\, and her vocals span from seductive soft-tones to rafter-rattling high-tones. Her creative partner is world-class engineer/producer\, songwriter\, background vocalist\, and dazzling lead guitarist Miguel Comas. Diaz and Comas are joined in Sweet Lizzy Project by virtuosic keyboard player and background vocalist Wilfredo Gatell; and the dynamic rhythm section of drummer Angel Luis Millet and bassist Alejandro Gonzalez. \n\n\n\nSLP has to three albums: Heaven (2015)\, Technicolor (2020) and Pirate Radio / Radio Pirata (2022). The band has performed in the US\, coast to coast\, and has opened up shows for big acts such as Heart\, Joan Jett\, Johnny Swim\, The Mavericks\, Raul Malo\, Jamey Johnson\, Buckcherry\, Billy Strings\, Silvana Estrada and Carlos Varela. \n\n\n\nThe release of their latest album Pirate Radio / Radio Pirata received immediate DSP support\, with key playlist adds across New Release\, Rock & Latin playlists at Spotify and Apple Music\, as well as airplay from multiple terrestrial stations and The Latin Alternative widely syndicated among NPR affiliates. Their Fall Pirate Radio Tour included concerts in Nashville\, Miami\, Atlanta\, New York\, Washington DC\, across Texas & many more.
URL:https://creartetampa.com/event/sweet-lizzy-project/
LOCATION:FL
CATEGORIES:Musica
ATTACH;FMTTYPE=image/jpeg:https://creartetampa.com/wp-content/uploads/2023/07/slp.jpg
END:VEVENT
BEGIN:VEVENT
DTSTART;TZID=America/New_York:20230811T200000
DTEND;TZID=America/New_York:20230811T233000
DTSTAMP:20260423T111646
CREATED:20230711T010736Z
LAST-MODIFIED:20230731T164822Z
UID:527-1691784000-1691796600@creartetampa.com
SUMMARY:Vanito Brown
DESCRIPTION:Vanito Brown\n\n\n\n A Corta Distancia\n\n\n\n\n\n\n\n\n\nEl proyecto Crearte Tampa se complace en presentar al cantautor Vanito Brown\, en un ambiente a corta distancia. Donde se coreará el repertorio más popular del autor\, desde sus andanzas por Habana Abierta hasta lo más reciente. \n\n\n\nNo te pierdas esta descarga única.
URL:https://creartetampa.com/event/vanito-brown/
LOCATION:Cuban Civic Club\, 10905 Memorial Hwy\, Tampa\, FL\, 33615\, Estados Unidos
CATEGORIES:Musica
ATTACH;FMTTYPE=image/jpeg:https://creartetampa.com/wp-content/uploads/2023/07/vanito-brown.jpg
END:VEVENT
BEGIN:VEVENT
DTSTART;TZID=America/New_York:20230728T200000
DTEND;TZID=America/New_York:20230728T233000
DTSTAMP:20260423T111646
CREATED:20230707T191155Z
LAST-MODIFIED:20230728T024058Z
UID:422-1690574400-1690587000@creartetampa.com
SUMMARY:A Corta Distancia
DESCRIPTION:A Corta Distancia\n\n\n\nA cargo del dúo Legna y Yoisel\n\n\n\nPhoto: Eldo Yaumael Alvarez Blanco\n\n\n\n\n\nEl dúo Legna y Yoisel te invitan a una noche de viernes donde se acostumbra el disfrute de la música y la canción cubana e iberoamericana de todos los tiempos. Acompañados de Israel Gonzalez (Percusionista) y Maidelis Gonzalez (percusión menor y sonajas) \n\n\n\nFoto: Cortesía del artista\n\n\n\nComo invitado especial tendremos a Tonny Luis con su banda!  \n\n\n\nTonny Luis es un talentoso cantante\, compositor y productor musical de origen cubano\, se destaca como un artista versátil y apasionado. Su incansable búsqueda de nuevas posibilidades creativas y colaboraciones inspiradoras lo impulsa a ofrecer experiencias musicales únicas e inolvidables a su público. \n\n\n\nEL salón Tropicana del Cuban Civic Club les ofrece Tapas a cargo del Cuban Foodies Restaurant y Bebidas para acompañar la buena música\, la descarga y la tertulia. \n\n\n\nNo faltes!
URL:https://creartetampa.com/event/a-corta-distancia-2/
LOCATION:Cuban Civic Club\, 10905 Memorial Hwy\, Tampa\, FL\, 33615\, Estados Unidos
CATEGORIES:Musica
ATTACH;FMTTYPE=image/jpeg:https://creartetampa.com/wp-content/uploads/2023/04/263716186_1954136194766877_6780042412527822090_n.jpeg
END:VEVENT
BEGIN:VEVENT
DTSTART;TZID=America/New_York:20230602T200000
DTEND;TZID=America/New_York:20230602T235959
DTSTAMP:20260423T111646
CREATED:20230523T043517Z
LAST-MODIFIED:20230707T191531Z
UID:316-1685736000-1685750399@creartetampa.com
SUMMARY:A Corta Distancia
DESCRIPTION:El dúo Legna y Yoisel te invitan a una noche de viernes donde se acostumbra el disfrute de la música y la canción cubana e iberoamericana de todos los tiempos. Acompañados de Israel Gonzalez (Percusionista)\, Tony de Armas (bajista) y Maidelis Gonzalez (percusión menor y sonajas) \n\n\n\nEL salón Tropicana del Cuban Civic Club les ofrece Tapas y Bebidas para acompañar la buena música\, la descarga y la tertulia. \n\n\n\nNo faltes!
URL:https://creartetampa.com/event/a-corta-distancia/
LOCATION:Cuban Civic Club\, 10905 Memorial Hwy\, Tampa\, FL\, 33615\, Estados Unidos
CATEGORIES:Musica
END:VEVENT
BEGIN:VEVENT
DTSTART;TZID=America/New_York:20230128T200000
DTEND;TZID=America/New_York:20230128T223000
DTSTAMP:20260423T111646
CREATED:20230123T043650Z
LAST-MODIFIED:20230123T044425Z
UID:61-1674936000-1674945000@creartetampa.com
SUMMARY:Carlos Varela
DESCRIPTION:El cantautor cubano Carlos Varela es conocido en todo el mundo latino\, donde es celebrado por sus canciones que han sido comparadas con la “esencia de una generación”. El público estadounidense\, por otro lado\, acaba de conocer la fuente de la poderosa alquimia alegórica y la innegable verdad emocional que ofrece Varela. \nEdificante y desafiante\, a veces relajante y otras explosiva\, Varela es valientemente franco\, uno de sus últimos sencillos es el reflejo de todo esto\, ‘La Feria de Los Tontos’ (Fools Fair) una colaboración con la banda cubana con sede en Nashville llamada Sweet Lizzy Project ha logrado conectar con las nuevas generaciónes de cubanos de una manera especial. \nEl último disco de Varela es ‘El Grito Mudo’ y su canción ‘Una Palabra’ fue utilizada en las películas Man On Fire\, protagonizada por Denzel Washington y Dakota Fanning\, y Powder Keg. El destacado director Alejandro González Iñárritu también usó ‘Una Palabra’ en un comercial de BMW protagonizado por Clive Owen.
URL:https://creartetampa.com/event/carlos-varela/
LOCATION:HCC Performing Arts Ybor CityHCC Performan Arts\, 1411 E 11th Ave.\, Tampa\, 33605
ATTACH;FMTTYPE=image/jpeg:https://creartetampa.com/wp-content/uploads/2023/01/IMG_0425.jpg
ORGANIZER;CN="Crearte Tampa":MAILTO:creartetampa@gmail.com
END:VEVENT
END:VCALENDAR